Package: ChIPComp Version: 1.37.0 Command: /Library/Frameworks/R.framework/Resources/bin/R CMD build --keep-empty-dirs --no-resave-data ChIPComp StartedAt: 2025-02-09 15:52:33 -0500 (Sun, 09 Feb 2025) EndedAt: 2025-02-09 15:52:56 -0500 (Sun, 09 Feb 2025) EllapsedTime: 23.3 seconds RetCode: 0 Status: OK PackageFile: ChIPComp_1.37.0.tar.gz PackageFileSize: 596.4 KiB