Package: ChIPComp Version: 1.37.0 Command: /Library/Frameworks/R.framework/Resources/bin/R CMD check --install=check:ChIPComp.install-out.txt --library=/Library/Frameworks/R.framework/Resources/library --no-vignettes --timings ChIPComp_1.37.0.tar.gz StartedAt: 2025-02-09 18:29:41 -0500 (Sun, 09 Feb 2025) EndedAt: 2025-02-09 18:31:18 -0500 (Sun, 09 Feb 2025) EllapsedTime: 97.2 seconds RetCode: 0 Status: OK CheckDir: ChIPComp.Rcheck Warnings: 0