Package: ChIPComp Version: 1.37.0 Command: /home/biocbuild/R/R/bin/R CMD build --keep-empty-dirs --no-resave-data ChIPComp StartedAt: 2025-01-28 21:47:23 -0000 (Tue, 28 Jan 2025) EndedAt: 2025-01-28 21:48:36 -0000 (Tue, 28 Jan 2025) EllapsedTime: 73.0 seconds RetCode: 0 Status: OK PackageFile: ChIPComp_1.37.0.tar.gz PackageFileSize: 589.1 KiB