Package: ChIPComp Version: 1.37.0 Command: /Library/Frameworks/R.framework/Resources/bin/R CMD build --keep-empty-dirs --no-resave-data ChIPComp StartedAt: 2025-02-12 16:12:46 -0500 (Wed, 12 Feb 2025) EndedAt: 2025-02-12 16:13:50 -0500 (Wed, 12 Feb 2025) EllapsedTime: 63.8 seconds RetCode: 0 Status: OK PackageFile: ChIPComp_1.37.0.tar.gz PackageFileSize: 596.8 KiB