Package: ChIPComp Version: 1.37.0 Command: /home/biocbuild/bbs-3.21-bioc/R/bin/R CMD build --keep-empty-dirs --no-resave-data ChIPComp StartedAt: 2025-02-09 16:37:48 -0500 (Sun, 09 Feb 2025) EndedAt: 2025-02-09 16:38:44 -0500 (Sun, 09 Feb 2025) EllapsedTime: 56.1 seconds RetCode: 0 Status: OK PackageFile: ChIPComp_1.37.0.tar.gz PackageFileSize: 597.4 KiB