Package: ChIPComp Version: 1.37.0 Command: /home/biocbuild/bbs-3.21-bioc/R/bin/R CMD INSTALL ChIPComp StartedAt: 2025-02-09 15:33:42 -0500 (Sun, 09 Feb 2025) EndedAt: 2025-02-09 15:34:12 -0500 (Sun, 09 Feb 2025) EllapsedTime: 30.4 seconds RetCode: 0 Status: OK