Package: ChIPQC Version: 1.43.0 Command: rm -rf ChIPQC.buildbin-libdir && mkdir ChIPQC.buildbin-libdir && /Users/biocbuild/BBS/utils/build-universal.sh ChIPQC_1.43.0.tar.gz /Library/Frameworks/R.framework/Resources/bin/R ChIPQC.buildbin-libdir StartedAt: 2025-02-09 22:09:08 -0500 (Sun, 09 Feb 2025) EndedAt: 2025-02-09 22:09:32 -0500 (Sun, 09 Feb 2025) EllapsedTime: 24.5 seconds RetCode: 0 Status: OK PackageFile: ChIPQC_1.43.0.tgz PackageFileSize: 2.091 MiB