Package: ChIPQC Version: 1.43.0 Command: /home/biocbuild/R/R/bin/R CMD INSTALL ChIPQC StartedAt: 2025-01-29 20:08:30 -0000 (Wed, 29 Jan 2025) EndedAt: 2025-01-29 20:09:47 -0000 (Wed, 29 Jan 2025) EllapsedTime: 76.2 seconds RetCode: 0 Status: OK