Package: ChIPQC Version: 1.43.0 Command: rm -rf ChIPQC.buildbin-libdir && mkdir ChIPQC.buildbin-libdir && /Users/biocbuild/BBS/utils/build-universal.sh ChIPQC_1.43.0.tar.gz /Library/Frameworks/R.framework/Resources/bin/R ChIPQC.buildbin-libdir StartedAt: 2025-02-05 00:32:47 -0500 (Wed, 05 Feb 2025) EndedAt: 2025-02-05 00:34:03 -0500 (Wed, 05 Feb 2025) EllapsedTime: 76.3 seconds RetCode: 0 Status: OK PackageFile: ChIPQC_1.43.0.tgz PackageFileSize: 2.089 MiB