Package: ChIPQC Version: 1.43.0 Command: /Library/Frameworks/R.framework/Resources/bin/R CMD build --keep-empty-dirs --no-resave-data ChIPQC StartedAt: 2025-02-09 16:15:43 -0500 (Sun, 09 Feb 2025) EndedAt: 2025-02-09 16:17:27 -0500 (Sun, 09 Feb 2025) EllapsedTime: 104.1 seconds RetCode: 0 Status: OK PackageFile: ChIPQC_1.43.0.tar.gz PackageFileSize: 1.523 MiB