Package: ChIPQC Version: 1.43.0 Command: /Library/Frameworks/R.framework/Resources/bin/R CMD INSTALL ChIPQC StartedAt: 2025-02-09 15:28:26 -0500 (Sun, 09 Feb 2025) EndedAt: 2025-02-09 15:29:40 -0500 (Sun, 09 Feb 2025) EllapsedTime: 74.8 seconds RetCode: 0 Status: OK