Package: ChIPQC Version: 1.43.0 Command: /home/biocbuild/bbs-3.21-bioc/R/bin/R CMD check --install=check:ChIPQC.install-out.txt --library=/home/biocbuild/bbs-3.21-bioc/R/site-library --timings ChIPQC_1.43.0.tar.gz StartedAt: 2025-02-04 20:51:01 -0500 (Tue, 04 Feb 2025) EndedAt: 2025-02-04 20:58:16 -0500 (Tue, 04 Feb 2025) EllapsedTime: 434.6 seconds RetCode: 0 Status: OK CheckDir: ChIPQC.Rcheck Warnings: 0