Package: ChIPQC Version: 1.43.0 Command: /home/biocbuild/bbs-3.21-bioc/R/bin/R CMD INSTALL ChIPQC StartedAt: 2025-02-09 15:59:46 -0500 (Sun, 09 Feb 2025) EndedAt: 2025-02-09 16:00:39 -0500 (Sun, 09 Feb 2025) EllapsedTime: 53.0 seconds RetCode: 0 Status: OK