Package: ChIPQC Version: 1.43.0 Command: rm -rf ChIPQC.buildbin-libdir && mkdir ChIPQC.buildbin-libdir && E:\biocbuild\bbs-3.21-bioc\R\bin\R.exe CMD INSTALL --build --library=ChIPQC.buildbin-libdir ChIPQC_1.43.0.tar.gz StartedAt: 2025-02-05 07:38:17 -0500 (Wed, 05 Feb 2025) EndedAt: 2025-02-05 07:39:55 -0500 (Wed, 05 Feb 2025) EllapsedTime: 98.1 seconds RetCode: 0 Status: OK PackageFile: ChIPQC_1.43.0.zip PackageFileSize: 2.092 MiB