Package: ChIPQC Version: 1.43.0 Command: chmod a+r ChIPQC -R && E:\biocbuild\bbs-3.21-bioc\R\bin\R.exe CMD build --keep-empty-dirs --no-resave-data ChIPQC StartedAt: 2025-02-04 17:47:29 -0500 (Tue, 04 Feb 2025) EndedAt: 2025-02-04 17:49:45 -0500 (Tue, 04 Feb 2025) EllapsedTime: 135.8 seconds RetCode: 0 Status: OK PackageFile: ChIPQC_1.43.0.tar.gz PackageFileSize: 1.526 MiB