Package: ChIPQC Version: 1.43.0 Command: E:\biocbuild\bbs-3.21-bioc\R\bin\R.exe CMD check --no-multiarch --install=check:ChIPQC.install-out.txt --library=E:\biocbuild\bbs-3.21-bioc\R\library --no-vignettes --timings ChIPQC_1.43.0.tar.gz StartedAt: 2025-02-05 00:02:29 -0500 (Wed, 05 Feb 2025) EndedAt: 2025-02-05 00:10:18 -0500 (Wed, 05 Feb 2025) EllapsedTime: 468.9 seconds RetCode: 0 Status: OK CheckDir: ChIPQC.Rcheck Warnings: 0