Package: ChIPQC Version: 1.43.0 Command: E:\biocbuild\bbs-3.21-bioc\R\bin\R.exe CMD INSTALL ChIPQC StartedAt: 2025-02-04 16:26:27 -0500 (Tue, 04 Feb 2025) EndedAt: 2025-02-04 16:28:19 -0500 (Tue, 04 Feb 2025) EllapsedTime: 112.4 seconds RetCode: 0 Status: OK