Package: ChIPanalyser Version: 1.29.0 Command: /Library/Frameworks/R.framework/Resources/bin/R CMD check --install=check:ChIPanalyser.install-out.txt --library=/Library/Frameworks/R.framework/Resources/library --no-vignettes --timings ChIPanalyser_1.29.0.tar.gz StartedAt: 2025-02-04 18:30:25 -0500 (Tue, 04 Feb 2025) EndedAt: 2025-02-04 18:32:45 -0500 (Tue, 04 Feb 2025) EllapsedTime: 139.6 seconds RetCode: 0 Status: OK CheckDir: ChIPanalyser.Rcheck Warnings: 0