Package: ChIPanalyser Version: 1.29.0 Command: /home/biocbuild/R/R/bin/R CMD INSTALL ChIPanalyser StartedAt: 2025-01-29 19:54:52 -0000 (Wed, 29 Jan 2025) EndedAt: 2025-01-29 19:55:43 -0000 (Wed, 29 Jan 2025) EllapsedTime: 50.9 seconds RetCode: 0 Status: OK