Package: ChIPanalyser Version: 1.29.0 Command: /Library/Frameworks/R.framework/Resources/bin/R CMD build --keep-empty-dirs --no-resave-data ChIPanalyser StartedAt: 2025-02-04 16:12:05 -0500 (Tue, 04 Feb 2025) EndedAt: 2025-02-04 16:32:31 -0500 (Tue, 04 Feb 2025) EllapsedTime: 1225.6 seconds RetCode: 0 Status: OK PackageFile: ChIPanalyser_1.29.0.tar.gz PackageFileSize: 1.183 MiB