Package: ChIPanalyser Version: 1.29.0 Command: /Library/Frameworks/R.framework/Resources/bin/R CMD INSTALL ChIPanalyser StartedAt: 2025-02-04 15:19:03 -0500 (Tue, 04 Feb 2025) EndedAt: 2025-02-04 15:19:53 -0500 (Tue, 04 Feb 2025) EllapsedTime: 49.8 seconds RetCode: 0 Status: OK