Package: ChIPanalyser Version: 1.29.0 Command: /home/biocbuild/bbs-3.21-bioc/R/bin/R CMD build --keep-empty-dirs --no-resave-data ChIPanalyser StartedAt: 2025-02-04 16:35:07 -0500 (Tue, 04 Feb 2025) EndedAt: 2025-02-04 16:51:09 -0500 (Tue, 04 Feb 2025) EllapsedTime: 961.6 seconds RetCode: 0 Status: OK PackageFile: ChIPanalyser_1.29.0.tar.gz PackageFileSize: 1.148 MiB