Package: ChIPanalyser Version: 1.29.0 Command: /home/biocbuild/bbs-3.21-bioc/R/bin/R CMD check --install=check:ChIPanalyser.install-out.txt --library=/home/biocbuild/bbs-3.21-bioc/R/site-library --timings ChIPanalyser_1.29.0.tar.gz StartedAt: 2025-02-09 20:52:57 -0500 (Sun, 09 Feb 2025) EndedAt: 2025-02-09 20:58:25 -0500 (Sun, 09 Feb 2025) EllapsedTime: 327.5 seconds RetCode: 0 Status: OK CheckDir: ChIPanalyser.Rcheck Warnings: 0