Package: ChIPanalyser Version: 1.29.0 Command: E:\biocbuild\bbs-3.21-bioc\R\bin\R.exe CMD INSTALL ChIPanalyser StartedAt: 2025-02-04 16:03:29 -0500 (Tue, 04 Feb 2025) EndedAt: 2025-02-04 16:05:17 -0500 (Tue, 04 Feb 2025) EllapsedTime: 108.2 seconds RetCode: 0 Status: OK