Package: ChIPexoQual Version: 1.31.0 Command: /Library/Frameworks/R.framework/Resources/bin/R CMD build --keep-empty-dirs --no-resave-data ChIPexoQual StartedAt: 2025-02-12 15:52:36 -0500 (Wed, 12 Feb 2025) EndedAt: 2025-02-12 15:53:34 -0500 (Wed, 12 Feb 2025) EllapsedTime: 58.6 seconds RetCode: 0 Status: OK PackageFile: ChIPexoQual_1.31.0.tar.gz PackageFileSize: 2.457 MiB