Package: ChIPexoQual Version: 1.31.0 Command: /home/biocbuild/R/R/bin/R CMD check --install=check:ChIPexoQual.install-out.txt --library=/home/biocbuild/R/R/site-library --no-vignettes --timings ChIPexoQual_1.31.0.tar.gz StartedAt: 2025-01-28 09:07:54 -0000 (Tue, 28 Jan 2025) EndedAt: 2025-01-28 09:16:21 -0000 (Tue, 28 Jan 2025) EllapsedTime: 506.4 seconds RetCode: 0 Status: OK CheckDir: ChIPexoQual.Rcheck Warnings: 0