Package: ChIPexoQual Version: 1.31.0 Command: /home/biocbuild/R/R/bin/R CMD INSTALL ChIPexoQual StartedAt: 2025-01-29 20:08:02 -0000 (Wed, 29 Jan 2025) EndedAt: 2025-01-29 20:09:07 -0000 (Wed, 29 Jan 2025) EllapsedTime: 64.7 seconds RetCode: 0 Status: OK