Package: ChIPexoQual Version: 1.31.0 Command: /Library/Frameworks/R.framework/Resources/bin/R CMD check --install=check:ChIPexoQual.install-out.txt --library=/Library/Frameworks/R.framework/Resources/library --no-vignettes --timings ChIPexoQual_1.31.0.tar.gz StartedAt: 2025-02-12 19:32:18 -0500 (Wed, 12 Feb 2025) EndedAt: 2025-02-12 19:39:26 -0500 (Wed, 12 Feb 2025) EllapsedTime: 427.9 seconds RetCode: 0 Status: OK CheckDir: ChIPexoQual.Rcheck Warnings: 0