Package: ChIPexoQual Version: 1.31.0 Command: /home/biocbuild/bbs-3.21-bioc/R/bin/R CMD check --install=check:ChIPexoQual.install-out.txt --library=/home/biocbuild/bbs-3.21-bioc/R/site-library --timings ChIPexoQual_1.31.0.tar.gz StartedAt: 2025-02-09 20:53:19 -0500 (Sun, 09 Feb 2025) EndedAt: 2025-02-09 21:01:52 -0500 (Sun, 09 Feb 2025) EllapsedTime: 512.8 seconds RetCode: 0 Status: OK CheckDir: ChIPexoQual.Rcheck Warnings: 0