Package: ChIPexoQual Version: 1.31.0 Command: /home/biocbuild/bbs-3.21-bioc/R/bin/R CMD INSTALL ChIPexoQual StartedAt: 2025-02-09 15:42:07 -0500 (Sun, 09 Feb 2025) EndedAt: 2025-02-09 15:42:51 -0500 (Sun, 09 Feb 2025) EllapsedTime: 43.6 seconds RetCode: 0 Status: OK