Package: ChIPexoQual Version: 1.31.0 Command: chmod a+r ChIPexoQual -R && E:\biocbuild\bbs-3.21-bioc\R\bin\R.exe CMD build --keep-empty-dirs --no-resave-data ChIPexoQual StartedAt: 2025-02-09 17:49:03 -0500 (Sun, 09 Feb 2025) EndedAt: 2025-02-09 17:54:30 -0500 (Sun, 09 Feb 2025) EllapsedTime: 327.4 seconds RetCode: 0 Status: OK PackageFile: ChIPexoQual_1.31.0.tar.gz PackageFileSize: 2.131 MiB