Package: ChIPexoQual Version: 1.31.0 Command: E:\biocbuild\bbs-3.21-bioc\R\bin\R.exe CMD check --no-multiarch --install=check:ChIPexoQual.install-out.txt --library=E:\biocbuild\bbs-3.21-bioc\R\library --no-vignettes --timings ChIPexoQual_1.31.0.tar.gz StartedAt: 2025-02-09 23:35:23 -0500 (Sun, 09 Feb 2025) EndedAt: 2025-02-09 23:45:00 -0500 (Sun, 09 Feb 2025) EllapsedTime: 577.4 seconds RetCode: 0 Status: OK CheckDir: ChIPexoQual.Rcheck Warnings: 0