Package: ChIPpeakAnno Version: 3.41.1 Command: /Library/Frameworks/R.framework/Resources/bin/R CMD build --keep-empty-dirs --no-resave-data ChIPpeakAnno StartedAt: 2025-02-10 15:52:21 -0500 (Mon, 10 Feb 2025) EndedAt: 2025-02-10 15:58:41 -0500 (Mon, 10 Feb 2025) EllapsedTime: 380.1 seconds RetCode: 0 Status: OK PackageFile: ChIPpeakAnno_3.41.1.tar.gz PackageFileSize: 21.48 MiB