Package: ChIPpeakAnno Version: 3.41.1 Command: /Library/Frameworks/R.framework/Resources/bin/R CMD check --install=check:ChIPpeakAnno.install-out.txt --library=/Library/Frameworks/R.framework/Resources/library --no-vignettes --timings ChIPpeakAnno_3.41.1.tar.gz StartedAt: 2025-02-10 18:29:57 -0500 (Mon, 10 Feb 2025) EndedAt: 2025-02-10 18:33:45 -0500 (Mon, 10 Feb 2025) EllapsedTime: 227.7 seconds RetCode: 0 Status: OK CheckDir: ChIPpeakAnno.Rcheck Warnings: 0