Package: ChIPpeakAnno Version: 3.41.1 Command: /Library/Frameworks/R.framework/Resources/bin/R CMD INSTALL ChIPpeakAnno StartedAt: 2025-02-10 15:22:21 -0500 (Mon, 10 Feb 2025) EndedAt: 2025-02-10 15:23:08 -0500 (Mon, 10 Feb 2025) EllapsedTime: 47.1 seconds RetCode: 0 Status: OK