Package: ChIPpeakAnno Version: 3.41.1 Command: /home/biocbuild/R/R/bin/R CMD check --install=check:ChIPpeakAnno.install-out.txt --library=/home/biocbuild/R/R/site-library --no-vignettes --timings ChIPpeakAnno_3.41.1.tar.gz StartedAt: 2025-01-28 09:08:18 -0000 (Tue, 28 Jan 2025) EndedAt: 2025-01-28 09:21:55 -0000 (Tue, 28 Jan 2025) EllapsedTime: 816.8 seconds RetCode: 0 Status: WARNINGS CheckDir: ChIPpeakAnno.Rcheck Warnings: 5