Package: ChIPpeakAnno Version: 3.41.1 Command: /home/biocbuild/R/R/bin/R CMD INSTALL ChIPpeakAnno StartedAt: 2025-01-29 20:21:45 -0000 (Wed, 29 Jan 2025) EndedAt: 2025-01-29 20:23:59 -0000 (Wed, 29 Jan 2025) EllapsedTime: 134.0 seconds RetCode: 0 Status: OK