Package: ChIPpeakAnno Version: 3.41.1 Command: rm -rf ChIPpeakAnno.buildbin-libdir && mkdir ChIPpeakAnno.buildbin-libdir && /Users/biocbuild/BBS/utils/build-universal.sh ChIPpeakAnno_3.41.1.tar.gz /Library/Frameworks/R.framework/Resources/bin/R ChIPpeakAnno.buildbin-libdir StartedAt: 2025-02-06 00:23:17 -0500 (Thu, 06 Feb 2025) EndedAt: 2025-02-06 00:25:42 -0500 (Thu, 06 Feb 2025) EllapsedTime: 145.6 seconds RetCode: 0 Status: OK PackageFile: ChIPpeakAnno_3.41.1.tgz PackageFileSize: 22.6 MiB