Package: ChIPpeakAnno Version: 3.41.1 Command: /Library/Frameworks/R.framework/Resources/bin/R CMD build --keep-empty-dirs --no-resave-data ChIPpeakAnno StartedAt: 2025-02-09 16:15:32 -0500 (Sun, 09 Feb 2025) EndedAt: 2025-02-09 16:18:06 -0500 (Sun, 09 Feb 2025) EllapsedTime: 154.4 seconds RetCode: 1 Status: ERROR PackageFile: None PackageFileSize: NA