Package: ChIPpeakAnno Version: 3.41.1 Command: /Library/Frameworks/R.framework/Resources/bin/R CMD INSTALL ChIPpeakAnno StartedAt: 2025-02-09 15:35:57 -0500 (Sun, 09 Feb 2025) EndedAt: 2025-02-09 15:38:16 -0500 (Sun, 09 Feb 2025) EllapsedTime: 138.9 seconds RetCode: 0 Status: OK