Package: ChIPpeakAnno Version: 3.41.1 Command: /home/biocbuild/bbs-3.21-bioc/R/bin/R CMD INSTALL ChIPpeakAnno StartedAt: 2025-02-09 15:49:47 -0500 (Sun, 09 Feb 2025) EndedAt: 2025-02-09 15:51:34 -0500 (Sun, 09 Feb 2025) EllapsedTime: 107.0 seconds RetCode: 0 Status: OK