Package: ChIPpeakAnno Version: 3.41.1 Command: rm -rf ChIPpeakAnno.buildbin-libdir && mkdir ChIPpeakAnno.buildbin-libdir && E:\biocbuild\bbs-3.21-bioc\R\bin\R.exe CMD INSTALL --build --library=ChIPpeakAnno.buildbin-libdir ChIPpeakAnno_3.41.1.tar.gz StartedAt: 2025-02-11 07:39:09 -0500 (Tue, 11 Feb 2025) EndedAt: 2025-02-11 07:42:09 -0500 (Tue, 11 Feb 2025) EllapsedTime: 180.0 seconds RetCode: 0 Status: OK PackageFile: ChIPpeakAnno_3.41.1.zip PackageFileSize: 20.68 MiB