Package: ChIPpeakAnno Version: 3.41.1 Command: chmod a+r ChIPpeakAnno -R && E:\biocbuild\bbs-3.21-bioc\R\bin\R.exe CMD build --keep-empty-dirs --no-resave-data ChIPpeakAnno StartedAt: 2025-02-10 17:59:43 -0500 (Mon, 10 Feb 2025) EndedAt: 2025-02-10 18:17:44 -0500 (Mon, 10 Feb 2025) EllapsedTime: 1080.7 seconds RetCode: 0 Status: OK PackageFile: ChIPpeakAnno_3.41.1.tar.gz PackageFileSize: 19.58 MiB