Package: ChIPpeakAnno Version: 3.41.1 Command: E:\biocbuild\bbs-3.21-bioc\R\bin\R.exe CMD check --no-multiarch --install=check:ChIPpeakAnno.install-out.txt --library=E:\biocbuild\bbs-3.21-bioc\R\library --no-vignettes --timings ChIPpeakAnno_3.41.1.tar.gz StartedAt: 2025-02-10 23:47:34 -0500 (Mon, 10 Feb 2025) EndedAt: 2025-02-11 00:00:16 -0500 (Tue, 11 Feb 2025) EllapsedTime: 761.8 seconds RetCode: 0 Status: OK CheckDir: ChIPpeakAnno.Rcheck Warnings: 0