Package: ChIPpeakAnno Version: 3.41.1 Command: E:\biocbuild\bbs-3.21-bioc\R\bin\R.exe CMD INSTALL ChIPpeakAnno StartedAt: 2025-02-10 16:46:21 -0500 (Mon, 10 Feb 2025) EndedAt: 2025-02-10 16:49:16 -0500 (Mon, 10 Feb 2025) EllapsedTime: 174.8 seconds RetCode: 0 Status: OK