Package: ChIPsim Version: 1.61.0 Command: rm -rf ChIPsim.buildbin-libdir && mkdir ChIPsim.buildbin-libdir && /Users/biocbuild/BBS/utils/build-universal.sh ChIPsim_1.61.0.tar.gz /Library/Frameworks/R.framework/Resources/bin/R ChIPsim.buildbin-libdir StartedAt: 2025-02-09 22:09:14 -0500 (Sun, 09 Feb 2025) EndedAt: 2025-02-09 22:09:27 -0500 (Sun, 09 Feb 2025) EllapsedTime: 13.3 seconds RetCode: 0 Status: OK PackageFile: ChIPsim_1.61.0.tgz PackageFileSize: 762.2 KiB