Package: ChIPsim Version: 1.61.0 Command: /Library/Frameworks/R.framework/Resources/bin/R CMD check --install=check:ChIPsim.install-out.txt --library=/Library/Frameworks/R.framework/Resources/library --no-vignettes --timings ChIPsim_1.61.0.tar.gz StartedAt: 2025-02-09 18:30:14 -0500 (Sun, 09 Feb 2025) EndedAt: 2025-02-09 18:31:34 -0500 (Sun, 09 Feb 2025) EllapsedTime: 80.9 seconds RetCode: 0 Status: OK CheckDir: ChIPsim.Rcheck Warnings: 0