Package: ChIPsim Version: 1.61.0 Command: /Library/Frameworks/R.framework/Resources/bin/R CMD INSTALL ChIPsim StartedAt: 2025-02-09 15:12:25 -0500 (Sun, 09 Feb 2025) EndedAt: 2025-02-09 15:12:37 -0500 (Sun, 09 Feb 2025) EllapsedTime: 12.1 seconds RetCode: 0 Status: OK