Package: ChIPsim Version: 1.61.0 Command: /home/biocbuild/R/R/bin/R CMD build --keep-empty-dirs --no-resave-data ChIPsim StartedAt: 2025-01-28 21:48:50 -0000 (Tue, 28 Jan 2025) EndedAt: 2025-01-28 21:50:27 -0000 (Tue, 28 Jan 2025) EllapsedTime: 97.0 seconds RetCode: 0 Status: OK PackageFile: ChIPsim_1.61.0.tar.gz PackageFileSize: 637.9 KiB