Package: ChIPsim Version: 1.61.0 Command: /home/biocbuild/R/R/bin/R CMD INSTALL ChIPsim StartedAt: 2025-01-29 19:59:08 -0000 (Wed, 29 Jan 2025) EndedAt: 2025-01-29 19:59:50 -0000 (Wed, 29 Jan 2025) EllapsedTime: 42.6 seconds RetCode: 0 Status: OK